BEGIN:VCALENDAR
VERSION:2.0
PRODID:-//Soul District - ECPv6.0.13//NONSGML v1.0//EN
CALSCALE:GREGORIAN
METHOD:PUBLISH
X-WR-CALNAME:Soul District
X-ORIGINAL-URL:https://devu05.testdevlink.net/soul
X-WR-CALDESC:Events for Soul District
REFRESH-INTERVAL;VALUE=DURATION:PT1H
X-Robots-Tag:noindex
X-PUBLISHED-TTL:PT1H
BEGIN:VTIMEZONE
TZID:America/Los_Angeles
BEGIN:DAYLIGHT
TZOFFSETFROM:-0800
TZOFFSETTO:-0700
TZNAME:PDT
DTSTART:20230312T100000
END:DAYLIGHT
BEGIN:STANDARD
TZOFFSETFROM:-0700
TZOFFSETTO:-0800
TZNAME:PST
DTSTART:20231105T090000
END:STANDARD
END:VTIMEZONE
BEGIN:VEVENT
DTSTART;TZID=America/Los_Angeles:20230917T080000
DTEND;TZID=America/Los_Angeles:20230917T120000
DTSTAMP:20260421T044149
CREATED:20230526T214543Z
LAST-MODIFIED:20230526T214852Z
UID:4132-1694937600-1694952000@devu05.testdevlink.net
SUMMARY:MLK Dream Run
DESCRIPTION:Race Day. Run\, jog or walk a 5k\, 10k\, or 15k around the Soul District with your friends
URL:https://devu05.testdevlink.net/soul/event/mlk-dream-run-2/
END:VEVENT
BEGIN:VEVENT
DTSTART;TZID=America/Los_Angeles:20230916T100000
DTEND;TZID=America/Los_Angeles:20230916T180000
DTSTAMP:20260421T044149
CREATED:20230526T214406Z
LAST-MODIFIED:20230526T214936Z
UID:4131-1694858400-1694887200@devu05.testdevlink.net
SUMMARY:MLK Dream Run
DESCRIPTION:Community Day\, Entertainment centre\, Soulful Vendor Village\, kids race\, food\, and more
URL:https://devu05.testdevlink.net/soul/event/mlk-dream-run-community-day/
LOCATION:PCC
END:VEVENT
BEGIN:VEVENT
DTSTART;TZID=America/Los_Angeles:20230614T113000
DTEND;TZID=America/Los_Angeles:20230614T133000
DTSTAMP:20260421T044149
CREATED:20230526T213812Z
LAST-MODIFIED:20230526T213844Z
UID:4126-1686742200-1686749400@devu05.testdevlink.net
SUMMARY:Networking Noir
DESCRIPTION:A Black Business Luncheon. Presented by the Black African Chamber and Soul District Business Association
URL:https://devu05.testdevlink.net/soul/event/networking-noir/
LOCATION:Margaret Carter Building
END:VEVENT
BEGIN:VEVENT
DTSTART;TZID=America/Los_Angeles:20230603T190000
DTEND;TZID=America/Los_Angeles:20230603T210000
DTSTAMP:20260421T044149
CREATED:20230526T214149Z
LAST-MODIFIED:20230526T214149Z
UID:4129-1685818800-1685826000@devu05.testdevlink.net
SUMMARY:Starlight Parade
DESCRIPTION:See the Soul District Business Association in this year’s Rose Festival Starlight Parade.
URL:https://devu05.testdevlink.net/soul/event/starlight-parade/
END:VEVENT
END:VCALENDAR